BEGIN:VCALENDAR
VERSION:2.0
PRODID:-//Herby&#039;s Fahrschule in Kassel - Hier bist du richtig! - ECPv6.3.4//NONSGML v1.0//EN
CALSCALE:GREGORIAN
METHOD:PUBLISH
X-ORIGINAL-URL:https://herbys-fahrschule.de
X-WR-CALDESC:Veranstaltungen für Herby&#039;s Fahrschule in Kassel - Hier bist du richtig!
REFRESH-INTERVAL;VALUE=DURATION:PT1H
X-Robots-Tag:noindex
X-PUBLISHED-TTL:PT1H
BEGIN:VTIMEZONE
TZID:Europe/Berlin
BEGIN:DAYLIGHT
TZOFFSETFROM:+0100
TZOFFSETTO:+0200
TZNAME:CEST
DTSTART:20260329T010000
END:DAYLIGHT
BEGIN:STANDARD
TZOFFSETFROM:+0200
TZOFFSETTO:+0100
TZNAME:CET
DTSTART:20261025T010000
END:STANDARD
END:VTIMEZONE
BEGIN:VEVENT
DTSTART;TZID=Europe/Berlin:20260425T080000
DTEND;TZID=Europe/Berlin:20260425T160000
DTSTAMP:20260422T114033
CREATED:20240422T191621Z
LAST-MODIFIED:20260316T133417Z
UID:4322-1777104000-1777132800@herbys-fahrschule.de
SUMMARY:Theorie Unterricht 25.04.2026 BKF Modul 3
DESCRIPTION:Modul 3 \nBitte pünktlich erscheinen
URL:https://herbys-fahrschule.de/theoriestunden-kalender/theorie-unterricht-14-05-2024/
LOCATION:Herby’s Fahrschule (KWS)\, Kurt-Wolters-Str. 27\, Kassel\, Hessen\, 34125\, Deutschland
ATTACH;FMTTYPE=image/jpeg:https://herbys-fahrschule.de/wp-content/uploads/2024/03/LKW_KW.jpg
END:VEVENT
BEGIN:VEVENT
DTSTART;TZID=Europe/Berlin:20260428T183000
DTEND;TZID=Europe/Berlin:20260428T200000
DTSTAMP:20260422T114033
CREATED:20240427T123822Z
LAST-MODIFIED:20260331T140012Z
UID:4385-1777401000-1777406400@herbys-fahrschule.de
SUMMARY:Theorie Unterricht 28.04.2026 Lektion 7
DESCRIPTION:Lektion 7 \nBitte pünktlich erscheinen!
URL:https://herbys-fahrschule.de/theoriestunden-kalender/theorie-unterricht-29-05-2024/
LOCATION:Herby’s Fahrschule (KWS)\, Kurt-Wolters-Str. 27\, Kassel\, Hessen\, 34125\, Deutschland
ATTACH;FMTTYPE=image/jpeg:https://herbys-fahrschule.de/wp-content/uploads/2024/03/PKW_KW.jpg
END:VEVENT
BEGIN:VEVENT
DTSTART;TZID=Europe/Berlin:20260429T180000
DTEND;TZID=Europe/Berlin:20260429T193000
DTSTAMP:20260422T114033
CREATED:20240422T190531Z
LAST-MODIFIED:20260416T153500Z
UID:4311-1777485600-1777491000@herbys-fahrschule.de
SUMMARY:Theorie Unterricht 29.04.2026 Motorrad Lektion  1
DESCRIPTION:Lektion 1\nBitte pünktlich erscheinen
URL:https://herbys-fahrschule.de/theoriestunden-kalender/theorie-unterricht-06-05-2024/
LOCATION:Herby’s Fahrschule (KWS)\, Kurt-Wolters-Str. 27\, Kassel\, Hessen\, 34125\, Deutschland
ATTACH;FMTTYPE=image/jpeg:https://herbys-fahrschule.de/wp-content/uploads/2024/03/BIKE_KW.jpg
END:VEVENT
BEGIN:VEVENT
DTSTART;TZID=Europe/Berlin:20260430T183000
DTEND;TZID=Europe/Berlin:20260430T200000
DTSTAMP:20260422T114033
CREATED:20241123T101803Z
LAST-MODIFIED:20260331T140049Z
UID:4622-1777573800-1777579200@herbys-fahrschule.de
SUMMARY:Theorie Unterricht 30.04.2026 Lektion 8
DESCRIPTION:Lektion 8\nBitte pünktlich erscheinen
URL:https://herbys-fahrschule.de/theoriestunden-kalender/theorie-unterricht-07-01-2025-lektion-8/
ATTACH;FMTTYPE=image/jpeg:https://herbys-fahrschule.de/wp-content/uploads/2024/03/PKW_KW.jpg
END:VEVENT
BEGIN:VEVENT
DTSTART;TZID=Europe/Berlin:20260505T183000
DTEND;TZID=Europe/Berlin:20260505T200000
DTSTAMP:20260422T114033
CREATED:20240427T122732Z
LAST-MODIFIED:20260416T153154Z
UID:4368-1778005800-1778011200@herbys-fahrschule.de
SUMMARY:Theorie Unterricht 05.05.2026 Lektion 9
DESCRIPTION:Lektion 9 \nBitte pünktlich erscheinen!
URL:https://herbys-fahrschule.de/theoriestunden-kalender/theorie-unterricht-20-05-2024/
LOCATION:Herby’s Fahrschule (KWS)\, Kurt-Wolters-Str. 27\, Kassel\, Hessen\, 34125\, Deutschland
ATTACH;FMTTYPE=image/jpeg:https://herbys-fahrschule.de/wp-content/uploads/2024/03/PKW_KW.jpg
END:VEVENT
BEGIN:VEVENT
DTSTART;TZID=Europe/Berlin:20260506T183000
DTEND;TZID=Europe/Berlin:20260506T200000
DTSTAMP:20260422T114033
CREATED:20241123T101321Z
LAST-MODIFIED:20260416T153855Z
UID:4620-1778092200-1778097600@herbys-fahrschule.de
SUMMARY:Theorie Unterricht 06.05.2026 Motorrad Lektion 2
DESCRIPTION:Lektion 2\nBitte pünktlich erscheinen
URL:https://herbys-fahrschule.de/theoriestunden-kalender/theorie-unterricht-02-01-2025-betriebsferien/
ATTACH;FMTTYPE=image/jpeg:https://herbys-fahrschule.de/wp-content/uploads/2024/03/BIKE_KW.jpg
END:VEVENT
BEGIN:VEVENT
DTSTART;TZID=Europe/Berlin:20260507T183000
DTEND;TZID=Europe/Berlin:20260507T200000
DTSTAMP:20260422T114033
CREATED:20240531T142746Z
LAST-MODIFIED:20260416T153259Z
UID:4402-1778178600-1778184000@herbys-fahrschule.de
SUMMARY:Theorie Unterricht 07.05.2026 Lektion 10
DESCRIPTION:Lektion 10\nBitte pünktlich erscheinen
URL:https://herbys-fahrschule.de/theoriestunden-kalender/theorie-unterricht-03-06-2024/
LOCATION:Herby’s Fahrschule (KWS)\, Kurt-Wolters-Str. 27\, Kassel\, Hessen\, 34125\, Deutschland
ATTACH;FMTTYPE=image/jpeg:https://herbys-fahrschule.de/wp-content/uploads/2024/03/PKW_KW.jpg
END:VEVENT
BEGIN:VEVENT
DTSTART;VALUE=DATE:20260509
DTEND;VALUE=DATE:20260510
DTSTAMP:20260422T114033
CREATED:20240928T100011Z
LAST-MODIFIED:20260416T154041Z
UID:4570-1778284800-1778371199@herbys-fahrschule.de
SUMMARY:Theorie Unterricht 09.05.2026  BKF Modul 4
DESCRIPTION:Modul 4 \nBeginn 08:00
URL:https://herbys-fahrschule.de/theoriestunden-kalender/theorie-unterricht-29-10-2024/
LOCATION:Herby’s Fahrschule (KWS)\, Kurt-Wolters-Str. 27\, Kassel\, Hessen\, 34125\, Deutschland
ATTACH;FMTTYPE=image/jpeg:https://herbys-fahrschule.de/wp-content/uploads/2024/03/LKW_KW.jpg
END:VEVENT
BEGIN:VEVENT
DTSTART;TZID=Europe/Berlin:20260512T183000
DTEND;TZID=Europe/Berlin:20260512T200000
DTSTAMP:20260422T114033
CREATED:20240427T123615Z
LAST-MODIFIED:20260416T153958Z
UID:4381-1778610600-1778616000@herbys-fahrschule.de
SUMMARY:Theorie Unterricht 12.05.2026  Lektion 11
DESCRIPTION:Lektion 11 \nBitte pünktlich erscheinen!
URL:https://herbys-fahrschule.de/theoriestunden-kalender/theorie-unterricht-27-05-2024/
LOCATION:Herby’s Fahrschule (KWS)\, Kurt-Wolters-Str. 27\, Kassel\, Hessen\, 34125\, Deutschland
ATTACH;FMTTYPE=image/jpeg:https://herbys-fahrschule.de/wp-content/uploads/2024/03/PKW_KW.jpg
END:VEVENT
BEGIN:VEVENT
DTSTART;TZID=Europe/Berlin:20260514T183000
DTEND;TZID=Europe/Berlin:20260514T200000
DTSTAMP:20260422T114033
CREATED:20240427T123142Z
LAST-MODIFIED:20260416T154314Z
UID:4373-1778783400-1778788800@herbys-fahrschule.de
SUMMARY:Theorie Unterricht 14.05.2026 kein Unterricht
DESCRIPTION:Lektion\nBitte pünktlich erscheinen
URL:https://herbys-fahrschule.de/theoriestunden-kalender/theorie-unterricht-20-05-2024-2/
LOCATION:Herby’s Fahrschule (KWS)\, Kurt-Wolters-Str. 27\, Kassel\, Hessen\, 34125\, Deutschland
ATTACH;FMTTYPE=image/jpeg:https://herbys-fahrschule.de/wp-content/uploads/2024/03/PKW_KW.jpg
END:VEVENT
BEGIN:VEVENT
DTSTART;TZID=Europe/Berlin:20260519T183000
DTEND;TZID=Europe/Berlin:20260519T200000
DTSTAMP:20260422T114033
CREATED:20241123T095429Z
LAST-MODIFIED:20260416T154151Z
UID:4592-1779215400-1779220800@herbys-fahrschule.de
SUMMARY:Theorie Unterricht 19.05.2026 Lektion 12
DESCRIPTION:Lektion 12 \nBitte Pünktlich erscheinen
URL:https://herbys-fahrschule.de/theoriestunden-kalender/theorie-unterricht-03-12-2024-lektion-1/
ATTACH;FMTTYPE=image/jpeg:https://herbys-fahrschule.de/wp-content/uploads/2024/03/PKW_KW.jpg
END:VEVENT
BEGIN:VEVENT
DTSTART;TZID=Europe/Berlin:20260521T183000
DTEND;TZID=Europe/Berlin:20260521T200000
DTSTAMP:20260422T114033
CREATED:20241029T124816Z
LAST-MODIFIED:20260416T154234Z
UID:4593-1779388200-1779393600@herbys-fahrschule.de
SUMMARY:Theorie Unterricht 21.05.2026 Lektion 13
DESCRIPTION:Lektion 13 \nBitte Pünktlich erscheinen
URL:https://herbys-fahrschule.de/theoriestunden-kalender/theorie-unterricht-31-10-2024/
LOCATION:Herby’s Fahrschule (KWS)\, Kurt-Wolters-Str. 27\, Kassel\, Hessen\, 34125\, Deutschland
ATTACH;FMTTYPE=image/jpeg:https://herbys-fahrschule.de/wp-content/uploads/2024/03/PKW_KW.jpg
END:VEVENT
BEGIN:VEVENT
DTSTART;TZID=Europe/Berlin:20260526T183000
DTEND;TZID=Europe/Berlin:20260526T200000
DTSTAMP:20260422T114034
CREATED:20241029T124501Z
LAST-MODIFIED:20260416T154538Z
UID:4590-1779820200-1779825600@herbys-fahrschule.de
SUMMARY:Theorie Unterricht  26.05.26 Lektion 14
DESCRIPTION:Lektion 14\nBitte Pünktlich erscheinen
URL:https://herbys-fahrschule.de/theoriestunden-kalender/theorie-unterricht-29-10-23024/
LOCATION:Herby’s Fahrschule (KWS)\, Kurt-Wolters-Str. 27\, Kassel\, Hessen\, 34125\, Deutschland
ATTACH;FMTTYPE=image/jpeg:https://herbys-fahrschule.de/wp-content/uploads/2024/03/PKW_KW.jpg
END:VEVENT
END:VCALENDAR