BEGIN:VCALENDAR
VERSION:2.0
PRODID:-//Herby&#039;s Fahrschule in Kassel - Hier bist du richtig! - ECPv6.3.4//NONSGML v1.0//EN
CALSCALE:GREGORIAN
METHOD:PUBLISH
X-ORIGINAL-URL:https://herbys-fahrschule.de
X-WR-CALDESC:Veranstaltungen für Herby&#039;s Fahrschule in Kassel - Hier bist du richtig!
REFRESH-INTERVAL;VALUE=DURATION:PT1H
X-Robots-Tag:noindex
X-PUBLISHED-TTL:PT1H
BEGIN:VTIMEZONE
TZID:Europe/Berlin
BEGIN:DAYLIGHT
TZOFFSETFROM:+0100
TZOFFSETTO:+0200
TZNAME:CEST
DTSTART:20260329T010000
END:DAYLIGHT
BEGIN:STANDARD
TZOFFSETFROM:+0200
TZOFFSETTO:+0100
TZNAME:CET
DTSTART:20261025T010000
END:STANDARD
END:VTIMEZONE
BEGIN:VEVENT
DTSTART;VALUE=DATE:20260321
DTEND;VALUE=DATE:20260322
DTSTAMP:20260422T161409
CREATED:20241010T201513Z
LAST-MODIFIED:20260303T192058Z
UID:4574-1774051200-1774137599@herbys-fahrschule.de
SUMMARY:Theorie Unterricht 21.03.2026 BKF Modul 1
DESCRIPTION:Modul 1\nBeginn 08:00 Uhr
URL:https://herbys-fahrschule.de/theoriestunden-kalender/12-10-2024-bkf-modul-3/
ATTACH;FMTTYPE=image/jpeg:https://herbys-fahrschule.de/wp-content/uploads/2024/03/LKW_KW.jpg
END:VEVENT
END:VCALENDAR